BEGIN:VCALENDAR
VERSION:2.0
PRODID:-//hacksw/handcal//NONSGML v1.0//EN
CALSCALE:GREGORIAN
BEGIN:VEVENT
DTEND:20260421T194500Z
DTSTART:20260421T174500Z
LOCATION:Programmkino Ost
SUMMARY:Vier minus drei
UID:programmkino-ost-show41014
GEO:51.03911;13.80653
URL;VALUE=URI:https://www.programmkino-ost.de/v5/pkodb2/public/index.php/shows/41014
END:VEVENT
END:VCALENDAR