BEGIN:VCALENDAR
VERSION:2.0
PRODID:-//hacksw/handcal//NONSGML v1.0//EN
CALSCALE:GREGORIAN
BEGIN:VEVENT
DTEND:20260422T163000Z
DTSTART:20260422T143000Z
LOCATION:Programmkino Ost
SUMMARY:Kokuho - Meister des Kabuki
UID:programmkino-ost-show40973
GEO:51.03911;13.80653
URL;VALUE=URI:https://www.programmkino-ost.de/v5/pkodb2/public/index.php/shows/40973
END:VEVENT
END:VCALENDAR