BEGIN:VCALENDAR
VERSION:2.0
PRODID:-//hacksw/handcal//NONSGML v1.0//EN
CALSCALE:GREGORIAN
BEGIN:VEVENT
DTEND:20260421T173000Z
DTSTART:20260421T153000Z
LOCATION:Programmkino Ost
SUMMARY:Calle Málaga - Ein Zuhause in Tanger
UID:programmkino-ost-show40936
GEO:51.03911;13.80653
URL;VALUE=URI:https://www.programmkino-ost.de/v5/pkodb2/public/index.php/shows/40936
END:VEVENT
END:VCALENDAR