BEGIN:VCALENDAR
VERSION:2.0
PRODID:-//hacksw/handcal//NONSGML v1.0//EN
CALSCALE:GREGORIAN
BEGIN:VEVENT
DESCRIPTION:Schnullerkino
DTEND:20260422T110000Z
DTSTART:20260422T090000Z
LOCATION:Programmkino Ost
SUMMARY:Vier minus drei
UID:programmkino-ost-show40662
GEO:51.03911;13.80653
URL;VALUE=URI:https://www.programmkino-ost.de/v5/pkodb2/public/index.php/shows/40662
END:VEVENT
END:VCALENDAR