BEGIN:VCALENDAR
VERSION:2.0
PRODID:-//hacksw/handcal//NONSGML v1.0//EN
CALSCALE:GREGORIAN
BEGIN:VEVENT
DESCRIPTION:Schulkino
Die großen Filme des Lebens
DTEND:20260429T154500Z
DTSTART:20260429T134500Z
LOCATION:Programmkino Ost
SUMMARY:Paula - Mein Leben soll ein Fest sein
UID:programmkino-ost-show41143
GEO:51.03911;13.80653
URL;VALUE=URI:https://www.programmkino-ost.de/shows/41143
END:VEVENT
END:VCALENDAR