BEGIN:VCALENDAR
VERSION:2.0
PRODID:-//hacksw/handcal//NONSGML v1.0//EN
CALSCALE:GREGORIAN
BEGIN:VEVENT
DESCRIPTION:Schulkino
Britfilms and Non-Britfilms
DTEND:20260423T090000Z
DTSTART:20260423T070000Z
LOCATION:Programmkino Ost
SUMMARY:Warum ich euch nicht in die Augen schauen kann
UID:programmkino-ost-show41068
GEO:51.03911;13.80653
URL;VALUE=URI:https://www.programmkino-ost.de/shows/41068
END:VEVENT
END:VCALENDAR