BEGIN:VCALENDAR
VERSION:2.0
PRODID:-//hacksw/handcal//NONSGML v1.0//EN
CALSCALE:GREGORIAN
BEGIN:VEVENT
DESCRIPTION:in memoriam Michel Blanc
27. Französische Filmtage Dresden 7.-13. Mai 2026
DTEND:20260507T170000Z
DTSTART:20260507T150000Z
LOCATION:Programmkino Ost
SUMMARY:Wie das Leben manchmal spielt
UID:programmkino-ost-show41059
GEO:51.03911;13.80653
URL;VALUE=URI:https://www.programmkino-ost.de/shows/41059
END:VEVENT
END:VCALENDAR