BEGIN:VCALENDAR
VERSION:2.0
PRODID:-//hacksw/handcal//NONSGML v1.0//EN
CALSCALE:GREGORIAN
BEGIN:VEVENT
DESCRIPTION:Übersehen
27. Französische Filmtage Dresden 7.-13. Mai 2026
DTEND:20260511T174500Z
DTSTART:20260511T154500Z
LOCATION:Programmkino Ost
SUMMARY:Souleymans Geschichte
UID:programmkino-ost-show41052
GEO:51.03911;13.80653
URL;VALUE=URI:https://www.programmkino-ost.de/shows/41052
END:VEVENT
END:VCALENDAR