BEGIN:VCALENDAR
VERSION:2.0
PRODID:-//hacksw/handcal//NONSGML v1.0//EN
CALSCALE:GREGORIAN
BEGIN:VEVENT
DESCRIPTION:Retrospektive Jacques Tati
27. Französische Filmtage Dresden 7.-13. Mai 2026
DTEND:20260508T193000Z
DTSTART:20260508T173000Z
LOCATION:Programmkino Ost
SUMMARY:Mein Onkel
UID:programmkino-ost-show41049
GEO:51.03911;13.80653
URL;VALUE=URI:https://www.programmkino-ost.de/shows/41049
END:VEVENT
END:VCALENDAR