BEGIN:VCALENDAR
VERSION:2.0
PRODID:-//hacksw/handcal//NONSGML v1.0//EN
CALSCALE:GREGORIAN
BEGIN:VEVENT
DESCRIPTION:Dresdner Premieren
27. Französische Filmtage Dresden 7.-13. Mai 2026
DTEND:20260509T181500Z
DTSTART:20260509T161500Z
LOCATION:Programmkino Ost
SUMMARY:Couscous und Geheimnisse
UID:programmkino-ost-show41029
GEO:51.03911;13.80653
URL;VALUE=URI:https://www.programmkino-ost.de/shows/41029
END:VEVENT
END:VCALENDAR