BEGIN:VCALENDAR
VERSION:2.0
PRODID:-//hacksw/handcal//NONSGML v1.0//EN
CALSCALE:GREGORIAN
BEGIN:VEVENT
DESCRIPTION:Live-Übertragung der Premiere im Passage Kino Leipzig in Anwesenheit des Regisseurs Markus Schleinzer und den Darstellerinnen Sandra Hüller und Caro Braun
Preview
DTEND:20260527T200000Z
DTSTART:20260427T180000Z
LOCATION:Programmkino Ost
SUMMARY:Rose
UID:programmkino-ost-show41021
GEO:51.03911;13.80653
URL;VALUE=URI:https://www.programmkino-ost.de/shows/41021
END:VEVENT
END:VCALENDAR