BEGIN:VCALENDAR
VERSION:2.0
PRODID:-//hacksw/handcal//NONSGML v1.0//EN
CALSCALE:GREGORIAN
BEGIN:VEVENT
DTEND:20260422T175000Z
DTSTART:20260422T155000Z
LOCATION:Programmkino Ost
SUMMARY:The History Of Sound
UID:programmkino-ost-show41002
GEO:51.03911;13.80653
URL;VALUE=URI:https://www.programmkino-ost.de/shows/41002
END:VEVENT
END:VCALENDAR