BEGIN:VCALENDAR
VERSION:2.0
PRODID:-//hacksw/handcal//NONSGML v1.0//EN
CALSCALE:GREGORIAN
BEGIN:VEVENT
DTEND:20260421T203000Z
DTSTART:20260421T183000Z
LOCATION:Programmkino Ost
SUMMARY:The History Of Sound
UID:programmkino-ost-show40999
GEO:51.03911;13.80653
URL;VALUE=URI:https://www.programmkino-ost.de/shows/40999
END:VEVENT
END:VCALENDAR