BEGIN:VCALENDAR
VERSION:2.0
PRODID:-//hacksw/handcal//NONSGML v1.0//EN
CALSCALE:GREGORIAN
BEGIN:VEVENT
DTEND:20260421T181000Z
DTSTART:20260421T161000Z
LOCATION:Programmkino Ost
SUMMARY:Father Mother Sister Brother
UID:programmkino-ost-show40964
GEO:51.03911;13.80653
URL;VALUE=URI:https://www.programmkino-ost.de/shows/40964
END:VEVENT
END:VCALENDAR