BEGIN:VCALENDAR
VERSION:2.0
PRODID:-//hacksw/handcal//NONSGML v1.0//EN
CALSCALE:GREGORIAN
BEGIN:VEVENT
DTEND:20260420T201500Z
DTSTART:20260420T181500Z
LOCATION:Programmkino Ost
SUMMARY:Der Magier im Kreml
UID:programmkino-ost-show40955
GEO:51.03911;13.80653
URL;VALUE=URI:https://www.programmkino-ost.de/shows/40955
END:VEVENT
END:VCALENDAR