BEGIN:VCALENDAR
VERSION:2.0
PRODID:-//hacksw/handcal//NONSGML v1.0//EN
CALSCALE:GREGORIAN
BEGIN:VEVENT
DTEND:20260422T144500Z
DTSTART:20260422T124500Z
LOCATION:Programmkino Ost
SUMMARY:Michael
UID:programmkino-ost-show40800
GEO:51.03911;13.80653
URL;VALUE=URI:https://www.programmkino-ost.de/shows/40800
END:VEVENT
END:VCALENDAR