BEGIN:VCALENDAR
VERSION:2.0
PRODID:-//hacksw/handcal//NONSGML v1.0//EN
CALSCALE:GREGORIAN
BEGIN:VEVENT
DESCRIPTION:Schulkino
Die großen Filme des Lebens
DTEND:20260427T140000Z
DTSTART:20260427T120000Z
LOCATION:Programmkino Ost
SUMMARY:Paula - Mein Leben soll ein Fest sein
UID:programmkino-ost-show40779
GEO:51.03911;13.80653
URL;VALUE=URI:https://www.programmkino-ost.de/shows/40779
END:VEVENT
END:VCALENDAR