BEGIN:VCALENDAR
VERSION:2.0
PRODID:-//hacksw/handcal//NONSGML v1.0//EN
CALSCALE:GREGORIAN
BEGIN:VEVENT
DESCRIPTION:im Anschluss 19:00 Gespräch mit Regisseur Volker Koepp
DTEND:20260416T153000Z
DTSTART:20260416T133000Z
LOCATION:Programmkino Ost
SUMMARY:Chronos - Fluss der Zeit
UID:programmkino-ost-show40528
GEO:51.03911;13.80653
URL;VALUE=URI:https://www.programmkino-ost.de/shows/40528
END:VEVENT
END:VCALENDAR