BEGIN:VCALENDAR
VERSION:2.0
PRODID:-//hacksw/handcal//NONSGML v1.0//EN
CALSCALE:GREGORIAN
BEGIN:VEVENT
DESCRIPTION:Die großen Filme des Lebens
DTEND:20260422T193000Z
DTSTART:20260422T173000Z
LOCATION:Programmkino Ost
SUMMARY:Monte Verità
UID:programmkino-ost-show39735
GEO:51.03911;13.80653
URL;VALUE=URI:https://www.programmkino-ost.de/shows/39735
END:VEVENT
END:VCALENDAR