BEGIN:VCALENDAR
VERSION:2.0
PRODID:-//hacksw/handcal//NONSGML v1.0//EN
CALSCALE:GREGORIAN
BEGIN:VEVENT
DESCRIPTION:Dokumentarfilm von Peter Schamoni\, Deutschland 1995
DTEND:20250402T173000Z
DTSTART:20250402T153000Z
LOCATION:Programmkino Ost
SUMMARY:Niki De Saint Phalle: Wer ist das Monster - Du oder ich?
UID:programmkino-ost-show33828
GEO:51.03911;13.80653
URL;VALUE=URI:https://www.programmkino-ost.de/shows/33828
END:VEVENT
END:VCALENDAR