BEGIN:VCALENDAR
VERSION:2.0
PRODID:-//hacksw/handcal//NONSGML v1.0//EN
CALSCALE:GREGORIAN
BEGIN:VEVENT
DESCRIPTION:in Anwesenheit der Filmemacher Karin Kaper und Dirk Szuszies
DTEND:20240827T191500Z
DTSTART:20240827T171500Z
LOCATION:Programmkino Ost
SUMMARY:Wir sind Juden aus Breslau
UID:programmkino-ost-show28617
GEO:51.03911;13.80653
URL;VALUE=URI:https://www.programmkino-ost.de/shows/28617
END:VEVENT
END:VCALENDAR