BEGIN:VCALENDAR
VERSION:2.0
PRODID:-//hacksw/handcal//NONSGML v1.0//EN
CALSCALE:GREGORIAN
BEGIN:VEVENT
DESCRIPTION:„Kamera Sensibel" - Psychiatrie im Film\, veranstaltet von Psychosozialer Trägerverein Sachsen e.V.
DTEND:20231018T180000Z
DTSTART:20231018T160000Z
LOCATION:Programmkino Ost
SUMMARY:Neben der Spur
UID:programmkino-ost-show23837
GEO:51.03911;13.80653
URL;VALUE=URI:https://www.programmkino-ost.de/shows/23837
END:VEVENT
END:VCALENDAR