BEGIN:VCALENDAR
VERSION:2.0
PRODID:-//hacksw/handcal//NONSGML v1.0//EN
CALSCALE:GREGORIAN
BEGIN:VEVENT
DESCRIPTION:Premiere\, eröffnet das 30. Kinolino - Filmfest für junges Publikum
Preview
DTEND:20230930T150000Z
DTSTART:20230930T130000Z
LOCATION:Programmkino Ost
SUMMARY:Checker Tobi und die Reise zu den fliegenden Flüssen
UID:programmkino-ost-show23436
GEO:51.03911;13.80653
URL;VALUE=URI:https://www.programmkino-ost.de/shows/23436
END:VEVENT
END:VCALENDAR